BEGIN:VCALENDAR
VERSION:2.0
PRODID:-//ESG Network Zimbabwe - ECPv6.15.20//NONSGML v1.0//EN
CALSCALE:GREGORIAN
METHOD:PUBLISH
X-ORIGINAL-URL:https://esgnetworkzimbabwe.co.zw
X-WR-CALDESC:Events for ESG Network Zimbabwe
REFRESH-INTERVAL;VALUE=DURATION:PT1H
X-Robots-Tag:noindex
X-PUBLISHED-TTL:PT1H
BEGIN:VTIMEZONE
TZID:Africa/Harare
BEGIN:STANDARD
TZOFFSETFROM:+0200
TZOFFSETTO:+0200
TZNAME:CAT
DTSTART:20240101T000000
END:STANDARD
END:VTIMEZONE
BEGIN:VEVENT
DTSTART;VALUE=DATE:20250226
DTEND;VALUE=DATE:20250302
DTSTAMP:20260424T183614
CREATED:20250122T073348Z
LAST-MODIFIED:20250131T052027Z
UID:5115-1740528000-1740873599@esgnetworkzimbabwe.co.zw
SUMMARY:ESG Strategy Retreat Workshop 2025
DESCRIPTION:2nd Annual ESG Strategy Workshop Retreat slated for Vumba in Mutare from 26 February -1 March 2025. The workshop which kicks off the ESG Network Zimbabwe activities calendar will run under the theme: “Achieving ESG Excellence in 2025: Setting the Agenda for Success.” \nAre you interested in understanding the current state of Environmental\, Social\, and Governance (ESG) practices in Zimbabwe? Join us for this insightful ESG Retreat workshop with the following objectives: \nObjectives: \n\nEquip organizations with the knowledge and tools needed to develop a comprehensive 2025 ESG Strategy.\nProvide a platform for networking and collaboration among ESG professionals.\nFacilitate discussions on emerging ESG trends\, challenges and opportunities.\nEnhance ESG capacity and skills among participants\n\nTopics of Discussion \n\nGlobal ESG Trends and Implications for Zimbabwe\nIntegrating ESG into Business Strategy\nDeveloping a Comprehensive ESG Policy Framework\nESG governance and leadership roles and responsibilities\nESG data collection and analysis using ESG Data Management Software.\nSuccessful ESG Implementation in Zimbabwe: Lessons Learned.\nESG Reporting and Disclosure: Challenges and Opportunities\nClimate Change Risk Management and Opportunities for Zimbabwe – RBZ\n“The Role of Procurement in Achieving Zimbabwe’s Sustainable Development Goals (SDGs) – PRAZ\n\nWho should Attend: \n\nTop Level Executives (CEO\, CFO)\,\nBoard Directors\nESG\, Sustainability and CSR professionals\nInvestors and financial analysts\nPolicymakers and regulators\nAcademics and researchers\nDepartment Heads (HR\, PR\, Marketing\, Operations\, Finance\, Company Secretaries\, Compliance Managers\, Liaison Officers\, among others)\n\nWe look forward to welcoming you to this exciting event and collectively working towards a stronger ESG landscape in Zimbabwe! \nPlease RSVP by 21 February 2025 to secure your spot at the workshop. Limited seats are available\, so don’t miss out on this valuable opportunity. \nTo book contact the ESGNZ organizing team on: admin1@esgnetworkzimbabwe.co.zw / cbvukurusi@esgnetworkzimbabwe.co.zw\, 0774768895 | 0777879891 | 08644291997 \nShare this post:
URL:https://esgnetworkzimbabwe.co.zw/event/esg-strategy-retreat-workshop-2025/
LOCATION:Vumba\, Mutare\, Manicaland\, 00263\, Zimbabwe
CATEGORIES:Training,Workshop
ATTACH;FMTTYPE=image/jpeg:https://esgnetworkzimbabwe.co.zw/wp-content/uploads/2024/03/esgnz-vumba-esg-workshop-feb-2024-53.jpg
ORGANIZER;CN="ESG Network Zimbabwe":MAILTO:admin@esgnetworkzimbabwe.co.zw
END:VEVENT
END:VCALENDAR