BEGIN:VCALENDAR
VERSION:2.0
PRODID:-//ESG Network Zimbabwe - ECPv6.15.20//NONSGML v1.0//EN
CALSCALE:GREGORIAN
METHOD:PUBLISH
X-WR-CALNAME:ESG Network Zimbabwe
X-ORIGINAL-URL:https://esgnetworkzimbabwe.co.zw
X-WR-CALDESC:Events for ESG Network Zimbabwe
REFRESH-INTERVAL;VALUE=DURATION:PT1H
X-Robots-Tag:noindex
X-PUBLISHED-TTL:PT1H
BEGIN:VTIMEZONE
TZID:Africa/Harare
BEGIN:STANDARD
TZOFFSETFROM:+0200
TZOFFSETTO:+0200
TZNAME:CAT
DTSTART:20230101T000000
END:STANDARD
END:VTIMEZONE
BEGIN:VEVENT
DTSTART;TZID=Africa/Harare:20241129T180000
DTEND;TZID=Africa/Harare:20241129T220000
DTSTAMP:20260424T235500
CREATED:20240219T105055Z
LAST-MODIFIED:20241007T075505Z
UID:4006-1732903200-1732917600@esgnetworkzimbabwe.co.zw
SUMMARY:National ESG & Responsible Business Awards
DESCRIPTION:The Zimbabwe National Annual ESG & Responsible Business Awards are back!!! Join us on the 29th November\, 2024 to celebrate\, Top Responsible Organizations that are making a difference in the Communities of Zimbabwe. Nominations and Entries are now open and will close on 15 October 2024. \nOur THEME this year “Creating a better future: ESG awards for business practices” aims to celebrate businesses\, individuals\, and non-profits who have integrated ESG into every level of their operations. These early adopters have taken the path of trial and error\, inspiring us to take the first step towards meaningful change. \nFor full event details click here \n  \nShare this post:
URL:https://esgnetworkzimbabwe.co.zw/event/national-esg-responsible-business-awards/
LOCATION:Rainbow Towers Hotel (HICC)\, 1 Pennefeather Road\, Harare\, Harare\, 00263\, Zimbabwe
CATEGORIES:Awards
ATTACH;FMTTYPE=image/jpeg:https://esgnetworkzimbabwe.co.zw/wp-content/uploads/2023/11/esg-network-zimbabwe-2023-awards-3S3A0237.jpg
ORGANIZER;CN="ESG Network Zimbabwe":MAILTO:admin@esgnetworkzimbabwe.co.zw
END:VEVENT
END:VCALENDAR