BEGIN:VCALENDAR
VERSION:2.0
PRODID:-//ESG Network Zimbabwe - ECPv6.15.20//NONSGML v1.0//EN
CALSCALE:GREGORIAN
METHOD:PUBLISH
X-WR-CALNAME:ESG Network Zimbabwe
X-ORIGINAL-URL:https://esgnetworkzimbabwe.co.zw
X-WR-CALDESC:Events for ESG Network Zimbabwe
REFRESH-INTERVAL;VALUE=DURATION:PT1H
X-Robots-Tag:noindex
X-PUBLISHED-TTL:PT1H
BEGIN:VTIMEZONE
TZID:Europe/Helsinki
BEGIN:DAYLIGHT
TZOFFSETFROM:+0200
TZOFFSETTO:+0300
TZNAME:EEST
DTSTART:20210328T010000
END:DAYLIGHT
BEGIN:STANDARD
TZOFFSETFROM:+0300
TZOFFSETTO:+0200
TZNAME:EET
DTSTART:20211031T010000
END:STANDARD
BEGIN:DAYLIGHT
TZOFFSETFROM:+0200
TZOFFSETTO:+0300
TZNAME:EEST
DTSTART:20220327T010000
END:DAYLIGHT
BEGIN:STANDARD
TZOFFSETFROM:+0300
TZOFFSETTO:+0200
TZNAME:EET
DTSTART:20221030T010000
END:STANDARD
BEGIN:DAYLIGHT
TZOFFSETFROM:+0200
TZOFFSETTO:+0300
TZNAME:EEST
DTSTART:20230326T010000
END:DAYLIGHT
BEGIN:STANDARD
TZOFFSETFROM:+0300
TZOFFSETTO:+0200
TZNAME:EET
DTSTART:20231029T010000
END:STANDARD
END:VTIMEZONE
BEGIN:VEVENT
DTSTART;TZID=Europe/Helsinki:20221111T180000
DTEND;TZID=Europe/Helsinki:20221111T220000
DTSTAMP:20260425T054244
CREATED:20220114T150241Z
LAST-MODIFIED:20221005T213313Z
UID:2586-1668189600-1668204000@esgnetworkzimbabwe.co.zw
SUMMARY:National CSR Awards 2022
DESCRIPTION:Share this post:
URL:https://esgnetworkzimbabwe.co.zw/event/national-csr-awards-2022/
LOCATION:Rainbow Towers Hotel (HICC)\, 1 Pennefeather Road\, Harare\, Harare\, 00263\, Zimbabwe
CATEGORIES:Awards
ATTACH;FMTTYPE=image/jpeg:https://esgnetworkzimbabwe.co.zw/wp-content/uploads/2021/01/csrnz-national-awards-2020-65.jpg
ORGANIZER;CN="CSR Network Zimbabwe":MAILTO:admin@csrnetworkzimbabwe.co.zw
END:VEVENT
BEGIN:VEVENT
DTSTART;TZID=Europe/Helsinki:20221026T080000
DTEND;TZID=Europe/Helsinki:20221028T170000
DTSTAMP:20260425T054244
CREATED:20220114T144419Z
LAST-MODIFIED:20220915T093711Z
UID:2579-1666771200-1666976400@esgnetworkzimbabwe.co.zw
SUMMARY:Responsible Business Summit 2022
DESCRIPTION:Share this post:
URL:https://esgnetworkzimbabwe.co.zw/event/responsible-business-summit-2022/
LOCATION:Victoria Falls\, Victoria Falls\, Matebeleland North\, Zimbabwe
CATEGORIES:Conference
ATTACH;FMTTYPE=image/png:https://esgnetworkzimbabwe.co.zw/wp-content/uploads/2022/09/CSRNZ-6th-Business-Summit-Flyer-e1663209923744.png
ORGANIZER;CN="CSR Network Zimbabwe":MAILTO:admin@csrnetworkzimbabwe.co.zw
END:VEVENT
BEGIN:VEVENT
DTSTART;TZID=Europe/Helsinki:20220801T080000
DTEND;TZID=Europe/Helsinki:20220930T170000
DTSTAMP:20260425T054244
CREATED:20220114T143953Z
LAST-MODIFIED:20220915T094140Z
UID:2577-1659340800-1664557200@esgnetworkzimbabwe.co.zw
SUMMARY:Provincial CSR Awards 2022
DESCRIPTION:Share this post:
URL:https://esgnetworkzimbabwe.co.zw/event/provincial-csr-awards-2022/
CATEGORIES:Awards
ATTACH;FMTTYPE=image/jpeg:https://esgnetworkzimbabwe.co.zw/wp-content/uploads/2022/07/csr-network-zimbabwe-provincial-awards-2.jpg
ORGANIZER;CN="CSR Network Zimbabwe":MAILTO:admin@csrnetworkzimbabwe.co.zw
END:VEVENT
END:VCALENDAR