BEGIN:VCALENDAR
VERSION:2.0
PRODID:-//ESG Network Zimbabwe - ECPv6.15.20//NONSGML v1.0//EN
CALSCALE:GREGORIAN
METHOD:PUBLISH
X-WR-CALNAME:ESG Network Zimbabwe
X-ORIGINAL-URL:https://esgnetworkzimbabwe.co.zw
X-WR-CALDESC:Events for ESG Network Zimbabwe
REFRESH-INTERVAL;VALUE=DURATION:PT1H
X-Robots-Tag:noindex
X-PUBLISHED-TTL:PT1H
BEGIN:VTIMEZONE
TZID:Europe/Helsinki
BEGIN:DAYLIGHT
TZOFFSETFROM:+0200
TZOFFSETTO:+0300
TZNAME:EEST
DTSTART:20240331T010000
END:DAYLIGHT
BEGIN:STANDARD
TZOFFSETFROM:+0300
TZOFFSETTO:+0200
TZNAME:EET
DTSTART:20241027T010000
END:STANDARD
BEGIN:DAYLIGHT
TZOFFSETFROM:+0200
TZOFFSETTO:+0300
TZNAME:EEST
DTSTART:20250330T010000
END:DAYLIGHT
BEGIN:STANDARD
TZOFFSETFROM:+0300
TZOFFSETTO:+0200
TZNAME:EET
DTSTART:20251026T010000
END:STANDARD
BEGIN:DAYLIGHT
TZOFFSETFROM:+0200
TZOFFSETTO:+0300
TZNAME:EEST
DTSTART:20260329T010000
END:DAYLIGHT
BEGIN:STANDARD
TZOFFSETFROM:+0300
TZOFFSETTO:+0200
TZNAME:EET
DTSTART:20261025T010000
END:STANDARD
END:VTIMEZONE
BEGIN:VTIMEZONE
TZID:Africa/Harare
BEGIN:STANDARD
TZOFFSETFROM:+0200
TZOFFSETTO:+0200
TZNAME:CAT
DTSTART:20250101T000000
END:STANDARD
END:VTIMEZONE
BEGIN:VEVENT
DTSTART;VALUE=DATE:20250803
DTEND;VALUE=DATE:20250807
DTSTAMP:20260424T173655
CREATED:20250122T074731Z
LAST-MODIFIED:20250611T025221Z
UID:5120-1754179200-1754524799@esgnetworkzimbabwe.co.zw
SUMMARY:9th Annual ESG Conference Summit 2025
DESCRIPTION:Theme: Towards a Sustainable Zimbabwe: Bridging Policy\, Community\, and Business Initiatives – A Holistic Approach to ESG in Zimbabwe. \nIntroduction \nThe global shift towards Environmental\, Social\, and Governance (ESG) principles is more than a corporate trend; it is a necessary framework for sustainable development. As Zimbabwe strives to create a robust economy\, it is imperative to build an ESG framework that resonates with national interests while fostering collaboration among governments\, public organizations\, civil society\, and the private sector. The 9th Annual ESG and Sustainability Conference in Victoria Falls aims to catalyse ideas and solutions that not only embrace ESG principles but also empower all stakeholders to actively engage and contribute to a sustainable future in Zimbabwe. The summit is also the leading ecosystem and platform in Zimbabwe which discusses important issues that include\, Climate Change\, ESG\, Impact Investing and Sustainable Finance and all critical issues and interventions necessary to achieve sustainable development. \nObjectives \n\nPromote Understanding of ESG: Increase awareness of ESG principles and their importance in fostering sustainable development and economic resilience in Zimbabwe.\nFacilitate Collaboration: Create a platform for diverse stakeholders to collaborate\, share experiences\, and establish partnerships aimed at implementing effective ESG strategies.\nDraft the Zimbabwe National ESG Framework: Engage participants in discussions to establish a cohesive and actionable ESG framework that meets national goals and aligns with global standards.\n\nTarget Audience \n\nTop Level Executives (CEO\, CFO)\,\nBoard Directors\,\nSustainability/ESG Team\,\nSafety\, Health & Environment Managers and Officers\,\nDepartment Heads (HR\, PR\, Marketing\, Operations\, Finance\, Investors\, Company Secretaries\, Risk and Compliance Managers\, Liaison officers\, CSR/ESG Officers among others)\nGovernment officials and policymakers\n\nRepresentatives from the private sector and corporations\nNGOs and civil society organizations\nAcademia and researchers\nLocal communities and grassroots organizations\nInternational organizations and donors\n\n\n\nTopics \n\n Keynote Addresses:\n\n\nThe Role of ESG in Driving Sustainable Economic Growth in Zimbabwe.\nEmpowering Future Leaders: The Role of Education in Driving ESG Awareness.\n\n  \nClimate Action: Climate Change Adaption & Resilience \n\nClimate Change and the Impact on Zimbabwe’s Natural Resources: A Call for Action.\nUSA’s withdrawal from the Paris agreement\, World Aid cuts and effects to world sustainable development.\nInnovative Communication for Climate Action: Using telecoms to promote sustainability awareness.\n\n  \nSocial Impact: \n\nDiversity\, Equity & Inclusion\, human rights\nIntegrating mental health support within an organization\nStakeholder Engagement and Accountability: Strategies for fostering relationships with stakeholders\nEmployee well-being: Promoting a safe and healthy work environment for employees\n\n  \nGovernance & Risk Management: ESG disclosure\, risk management\, board diversity\, executive compensation \n\nBest Practices in ESG Reporting: Transparency as a Trust-Building Tool\nESG Data Collection and management\, leveraging on technology (ESG Vision Pro).\nThe Future of ESG Reporting: Transparency and Accountability in Zimbabwe\nThe principles of corporate governance and their application in the Public Sector.\nEthical Governance: Trust\, Integrity\, and Transparency\, the importance of Ethics in Corporate Governance\nLeadership in Action: Exploring Case Studies of Successful ESG Initiative\n\nESG Legislation \n\nESG & Sustainability Legislation: Integrating Zimbabwe fragmented ESG & Sustainability related legislation into a national guiding Framework\nESG Regulation: What We Can Learn from Global Standards and Practices\nRegulatory Frameworks: Evaluating the effectiveness of current legislation in promoting ESG in all sectors.\nUnpacking Zimbabwe environmental laws e.g. SI 48 of 2025\, Carbon Trading (General) Regulations etc.\n\nSustainable Finance: ESG investing\, impact investing\, green bonds\, sustainable banking \n\nGreen Finance and Investing: Opportunities and challenges in green finance and investing.\nEvaluating the effectiveness of investments in social and environmental projects.\n\n  \nInnovation and Technology:  \n\nClean tech\, sustainable agriculture\, digital solutions for ESG\nSustainable Mining Practices: Innovations and technologies for minimizing environmental impact.\nClimate-Resilient Farming: Techniques for sustainable agricultural practices in the face of climate change.\nImplementing waste reduction and recycling strategies & Innovations for energy efficiency in manufacturing processes.\nDecarbonizing the Supply Chain: Strategies for reducing carbon footprints in transport logistics.\nRenewable Energy Solutions: Unleashing Zimbabwe’s Potential\nSustainable Network Solutions: Reducing energy consumption in telecommunications infrastructure.\nSustainable Building materials: Exploring innovative materials and technologies that reduce environmental impact (using locally sourced\, recycled or low carbon materials)\n\nResponsible Tourism and Natural Resources Management \n\nSustainable tourism Practices – Balancing tourism growth with environmental conservation\nStrategies to reduce environmental impact of travel.\n\n\n Panel Discussion: Laying the Foundation for a National ESG Policy\n Workshop: Integrating ESG into Business Strategy: Profiting from Sustainability\, a Practical Approach.\n\n\nDiscussing ways to embed ESG considerations into core business operations and decision making processes.\nHow ESG Compliance can drive Investment and Economic Growth in Zimbabwe\n\nShare this post:
URL:https://esgnetworkzimbabwe.co.zw/event/9th-annual-esg-conference-summit/
LOCATION:Elephant Hills\, 328 Parkway Drive\, Victoria Falls\, Matabeleland North\, 00263\, Zimbabwe
CATEGORIES:Conference
ATTACH;FMTTYPE=image/webp:https://esgnetworkzimbabwe.co.zw/wp-content/uploads/2024/08/esgnz-8th-leadership-forum-2024-6.webp
ORGANIZER;CN="ESG Network Zimbabwe":MAILTO:admin@esgnetworkzimbabwe.co.zw
END:VEVENT
BEGIN:VEVENT
DTSTART;VALUE=DATE:20260101
DTEND;VALUE=DATE:20260411
DTSTAMP:20260424T173655
CREATED:20260112T023751Z
LAST-MODIFIED:20260304T044043Z
UID:7029-1767225600-1775865599@esgnetworkzimbabwe.co.zw
SUMMARY:ESG & Sustainability Tour of Europe!
DESCRIPTION:We are excited to announce an extraordinary opportunity for leaders in the ESG (Environmental\, Social\, and Governance) sector in Zimbabwe. ESG Network Zimbabwe is organizing a uniquely tailored tour of Europe focused on sustainability and ESG best practices. This is an invitation for you to join us on a journey that promises to deepen your understanding of global ESG trends and enhance your organization’s impact. \nWhy Attend? \nInspiring Case Studies: Experience first-hand the innovative initiatives and success stories from leading European companies that have successfully integrated ESG into their core operations. \nNetworking Opportunities: Connect with influential ESG thought leaders\, sustainability experts\, and like-minded professionals from various sectors who are making strides in sustainability. \nCultural Exchange:  Immerse yourself in the rich cultures of Europe while exploring sustainable practices that can be adapted to fit the Zimbabwean context. \nInformed Decision Making: Equip yourself with the knowledge and resources needed to drive forward-thinking ESG initiatives that can shape the future of Zimbabwe’s economy and society. \nGovernment and Policy Sessions: Meet with European policymakers and NGOs to understand the regulatory landscape surrounding ESG. Discuss how these policies can inform ESG frameworks in Zimbabwe. \nInnovative Technology Showcases: Explore cutting-edge technologies and innovations in sustainability—like renewable energy solutions\, waste management systems\, and green finance tools—that can be applied back home. \nSustainable Urban Development Tours: Visit cities known for their sustainable urban planning\, such as Copenhagen or Amsterdam. Learn how they have integrated sustainability into public infrastructure\, transportation\, and urban green spaces. \nField Visits to NGOs and Non-Profits: Visit organizations actively working on social sustainability issues. Understand their approach to community engagement and empowerment. \nSuggested Itinerary \nESGNZ is Considering planning an itinerary that balances company visits\, workshops\, cultural experiences\, and networking opportunities over several days to ensure a comprehensive exposure to Europe’s best practices in sustainability. \nHow to Subscribe: \nThe registration deadline is 10 April and a limited number of delegate spaces are available\, only serious applications will be considered. To register click on the link below. \nESG & Responsible Business Trade Mission To Europe Registration \n \nFor more information or to discuss how this tour can benefit you and your organization\, please do not hesitate to contact us at admin@esgnetworkzimbabwe.co.zw\, or call 0774768895 \nLet’s work together to drive sustainable growth and transform our approach to ESG in Zimbabwe. We look forward to welcoming you on this inspiring journey! \nShare this post:
URL:https://esgnetworkzimbabwe.co.zw/event/esg-sustainability-tour-of-europe/
LOCATION:Virtual Training
CATEGORIES:Workshop
ORGANIZER;CN="ESG Network Zimbabwe":MAILTO:admin@esgnetworkzimbabwe.co.zw
END:VEVENT
BEGIN:VEVENT
DTSTART;VALUE=DATE:20260225
DTEND;VALUE=DATE:20260301
DTSTAMP:20260424T173655
CREATED:20260112T021424Z
LAST-MODIFIED:20260112T021424Z
UID:7013-1771977600-1772323199@esgnetworkzimbabwe.co.zw
SUMMARY:ESG Strategy Workshop Retreat – Vumba 2026
DESCRIPTION:Theme\n“Defining Your 2026 ESG Strategy: From Insights to Action\, Your 2026 ESG Roadmap”  \n  \nConcept Overview \nThe ESG Strategy Workshop Retreat – Vumba 2026 is a focused\, immersive learning and strategy-building experience designed to help organizations critically assess their ESG readiness and intentionally design their 2026 ESG strategy. \nSet in the tranquil and inspiring environment of Vumba\, the retreat creates space away from daily operational pressures\, allowing participants to reflect\, learn\, and collaboratively build ESG strategies that are practical\, credible\, and aligned with global best practice. \nThis is the 3rd ESG Strategy Retreat\, building on previous engagements and deepening the shift from ESG awareness to structured strategy\, policy development\, and implementation. \n  \nPurpose \nTo equip decision-makers\, sustainability leads/champions\, and ESG practitioners with the knowledge\, tools\, and strategic clarity required to confidently navigate their ESG journey in 2026 and beyond. \n  \nOutcome\nBy the end of the retreat\, participants will be better positioned to: \n\nArticulate a clear ESG vision for 2026\nDevelop or refine an ESG strategy and policies\nCommunicate & Report ESG commitments effectively\nAlign their organization with relevant ESG frameworks\nA strong understanding of ESG fundamentals\nPractical insight into ESG strategy and policy formulation\n\n  \nCore Focus Areas\n1. ESG Fundamentals \n\nUnderstanding Environmental\, Social\, and Governance pillars\nWhy ESG matters for African and Zimbabwean organizations\nESG as a value-creation and risk-management tool\n\n2. ESG Strategy & Policy Formulation and Implementation \n\nTranslating ESG principles into strategy\nDeveloping ESG policies aligned with organizational objectives\nMoving from intention to implementation\n\n3. ESG Communication and Reporting \n\nInternal and external ESG communication\nESG disclosures and stakeholder engagement\nBuilding credibility and avoiding greenwashing\n\n4. Commonly Used ESG Frameworks \n\nOverview of global ESG frameworks and standards\nHow to select frameworks relevant to your organization\nPractical application and alignment\n\n  \nRetreat Program Structure \nDay 1: Travelling Day\nDay 2: Full-Day ESG Strategy Workshop\nDay 3: Half-Day Workshop\, Tour of Vumba & Activities\nDay 4: Travelling Day \n  \nTarget Participants \n\nBoard members and executives\nSustainability and ESG leads/champions\nCommunications and reporting teams\,\nRisk\, Compliance\, Strategy\, HR\, Finance\, SHEQ\,\nMarketing\, PR\, Research & Development\, Procurement\,\nBusiness Development\, Operations etc.\nOrganizations at early\, intermediate\, or transitioning stages of ESG adoption among others.\n\n  \nPARTICIPATION INVESTMENT & PARTNERSHIP PACKAGES \n Opportunities for partnering ESGNZ at this important workshop include\, Pinnacle\, and Value levels. These packages include exclusive sponsorship of a unique aspect of the workshop (e.g. Specific networking dinners\, welcome cocktail\, workshop delegate memorabilia (Branded T-shirts\, Caps\, Note Pads\, Pens\, etc)\, Team Building Breakfast and Activities\, program printing among others). In addition\, each sponsorship package delivers other great benefits\, such as the promotion of your company brand\, both in advance of the workshop and at the event itself as well as maximizing speaking opportunities\, offering complimentary delegate registrations and much more \n  \nParticipation Investment (USD$1300)\nInclusive of accommodation\, meals\, activities and workshop registration \nOwn accommodation (USD$1000)\nInclusive of meals\, activities and workshop registration. \nConference only USD$700 \n  \nPARTNERSHIP OPPORTUNITIES \n PINNACLE SPONSORS (USD$5 000) \nThe Pinnacle Sponsors will be acknowledged as the premium supporters of the workshop\, enjoying maximum exposure both before and during the workshop\, with the highest priority of branding in all documentation and on-site signage. \n\n– Official exclusive partners and hosts of the workshop\n– 3 Complimentary delegates to participate at the workshop\n– Complimentary full board participation\n– Complimentary 1-year ESG Network Zimbabwe Membership\n– Opportunity for a Senior Director to be a speaker/ panellist at the workshop.\n– Ten minutes commercial talk time on opening session\n– Regular verbal mentions of sponsorship at the workshop\n– 1year free advertising on ESG Network weekly newsletter and website\n– Unlimited banner displays inside and outside the venue\n– Opportunity to handover a donation from the proceeds from the workshop.\n– Logo included in all event promotional marketing materials (pre-workshop print and digital campaigns)\n\n  \nVALUE SPONSORS (USD$3 500) \n\n– 2 Complimentary delegates to participate at the workshop\n– Complimentary full board participation\n– Complimentary Half-year ESG Network Zimbabwe Membership\n– 5 minutes commercial talk time on opening session\n– Regular verbal mentions of sponsorship at the workshop\n– Half year free advertising on ESG Network weekly newsletter and website\n– limited banner displays inside and outside the venue\n– Logo included in all event promotional marketing materials (pre-workshop print and digital campaigns)\n\n  \nTo book your participation get in touch with us on\,\nadmin@esgnetworkzimbabwe.co.zw\n0774768895 | 0782005030 | 0242229123 \nShare this post:
URL:https://esgnetworkzimbabwe.co.zw/event/esg-strategy-workshop-retreat-vumba-2026/
LOCATION:Forest Hills Resort\, Vumba\, Mutare\, Manicaland\, Zimbabwe
CATEGORIES:Training,Workshop
ATTACH;FMTTYPE=image/jpeg:https://esgnetworkzimbabwe.co.zw/wp-content/uploads/2024/03/esgnz-vumba-esg-workshop-feb-2024-89.jpg
ORGANIZER;CN="ESG Network Zimbabwe":MAILTO:admin@esgnetworkzimbabwe.co.zw
END:VEVENT
END:VCALENDAR