BEGIN:VCALENDAR
VERSION:2.0
PRODID:-//ESG Network Zimbabwe - ECPv6.15.20//NONSGML v1.0//EN
CALSCALE:GREGORIAN
METHOD:PUBLISH
X-ORIGINAL-URL:https://esgnetworkzimbabwe.co.zw
X-WR-CALDESC:Events for ESG Network Zimbabwe
REFRESH-INTERVAL;VALUE=DURATION:PT1H
X-Robots-Tag:noindex
X-PUBLISHED-TTL:PT1H
BEGIN:VTIMEZONE
TZID:Africa/Harare
BEGIN:STANDARD
TZOFFSETFROM:+0200
TZOFFSETTO:+0200
TZNAME:CAT
DTSTART:20230101T000000
END:STANDARD
END:VTIMEZONE
BEGIN:VEVENT
DTSTART;VALUE=DATE:20240101
DTEND;VALUE=DATE:20241101
DTSTAMP:20260425T012108
CREATED:20240119T003719Z
LAST-MODIFIED:20240219T110223Z
UID:3918-1704067200-1730419199@esgnetworkzimbabwe.co.zw
SUMMARY:ESGNZ Academy Training
DESCRIPTION:Sign up for ESGNZ Academy: immersive face to face and online training sessions designed to equip professionals with essential skills and knowledge in the realms of ESG and sustainability\, corporate due diligence\, ESG assurance and ISO management systems\, whistleblowing and more. Our comprehensive curriculum comprises dynamic courses\, divided into 8 categories\, ensuring you receive a well-rounded education in these critical areas of corporate responsibility. \nRegister Now! Group Discounts available! \nCourses on Offer in 2024 \n\nIntroduction to ESG\n\nGlobal Context\nZimbabwean Context\nThe Climate Crisis and Sustainability\nUnpacking the various Sustainability Frameworks\n\n\nSustainability Reporting using GRI Standards (An Overview)\nSustainability Governance: (A GRI Perspective)\nSustainability and Human Rights (A GRI Perspective)\nESG and SDGs (A GRI Perspective)\nSustainable Procurement\nAligning ESG Risks to Enterprise Risk Management (A COSO-WBCSD perspective)\nA practical Guide to implement ESG in your Organization.\n\nRegister today\, admin@csrnetworkzimbabwe.co.zw\, 0774768895 \nShare this post:
URL:https://esgnetworkzimbabwe.co.zw/event/esgnz-academy-training/
CATEGORIES:Training
ATTACH;FMTTYPE=image/jpeg:https://esgnetworkzimbabwe.co.zw/wp-content/uploads/2024/01/esg-academy.jpg
ORGANIZER;CN="ESG Network Zimbabwe":MAILTO:admin@esgnetworkzimbabwe.co.zw
END:VEVENT
BEGIN:VEVENT
DTSTART;VALUE=DATE:20240901
DTEND;VALUE=DATE:20241101
DTSTAMP:20260425T012108
CREATED:20240219T104741Z
LAST-MODIFIED:20240219T104741Z
UID:4003-1725148800-1730419199@esgnetworkzimbabwe.co.zw
SUMMARY:Provincial ESG & CSR Awards
DESCRIPTION:Provincial awards \nShare this post:
URL:https://esgnetworkzimbabwe.co.zw/event/provincial-esg-csr-awards/
CATEGORIES:Awards
ATTACH;FMTTYPE=image/jpeg:https://esgnetworkzimbabwe.co.zw/wp-content/uploads/2020/02/csr-network-zimbabwe-national-award.jpg
ORGANIZER;CN="ESG Network Zimbabwe":MAILTO:admin@esgnetworkzimbabwe.co.zw
END:VEVENT
END:VCALENDAR